BEGIN:VCALENDAR
VERSION:2.0
PRODID:-//https://eeeea.gr///NONSGML kigkonsult.se iCalcreator 2.10.15//
METHOD:PUBLISH
BEGIN:VEVENT
UID:20260424T103259EEST-0188uiB4uO@https://eeeea.gr/
DTSTAMP:20260424T073259Z
DESCRIPTION:19-21 Απριλίου 2024\nRoyal Olympic Hotel\nΕγγραφές\nΔείτε περισ
 σότερα εδώ https://eeeea.gr/component/rseventspro/event/98-8η-διεπιστημονι
 κή-προσέγγιση-του-καρκίνου-του-μαστού-του-γυναικολογικού-καρκίνου-από-την-
 θεωρία-στη-πράξη?Itemid=101
DTSTART:20240419T050000Z
DTEND:20240421T143000Z
LOCATION: Royal Olympic Hotel (Αθανασίου Διάκου 28\, Αθήνα 117 43)
SUMMARY:8η Διεπιστημονική Προσέγγιση του Καρκίνου του Μαστού & του Γυναικολ
 ογικού Καρκίνου από την Θεωρία στη Πράξη
URL:https://eeeea.gr/component/rseventspro/event/98-8η-διεπιστημονική-προσέ
 γγιση-του-καρκίνου-του-μαστού-του-γυναικολογικού-καρκίνου-από-την-θεωρία-σ
 τη-πράξη?Itemid=101
END:VEVENT
END:VCALENDAR
