BEGIN:VCALENDAR
VERSION:2.0
PRODID:-//https://eeeea.gr///NONSGML kigkonsult.se iCalcreator 2.10.15//
METHOD:PUBLISH
BEGIN:VEVENT
UID:20260424T085150EEST-1510g8ndxK@https://eeeea.gr/
DTSTAMP:20260424T055150Z
DESCRIPTION:24-27 Απριλίου 2024\nΞενοδοχείο Makedonia Palace\nΕπιστημονικό 
 Πρόγραμμα\nΦόρμα εγγραφής\nΠληροφορίες https://eeeea.gr/component/rsevents
 pro/event/99-7ο-ελληνικό-συνέδριο-ογκολογίας-ανθρώπινο-άγγιγμα-στη-ψηφιακή
 -εποχή?Itemid=101
DTSTART:20240424T060000Z
DTEND:20240427T143000Z
LOCATION:Ξενοδοχείο Makedonia Palace (Λεωφ. Μεγ. Αλεξάνδρου 2 Θεσσαλονίκη 5
 46 40)
SUMMARY:7ο Ελληνικό Συνέδριο Ογκολογίας: Ανθρώπινο άγγιγμα στη ψηφιακή εποχ
 ή
URL:https://eeeea.gr/component/rseventspro/event/99-7ο-ελληνικό-συνέδριο-ογ
 κολογίας-ανθρώπινο-άγγιγμα-στη-ψηφιακή-εποχή?Itemid=101
END:VEVENT
END:VCALENDAR
