BEGIN:VCALENDAR
VERSION:2.0
PRODID:-//https://eeeea.gr///NONSGML kigkonsult.se iCalcreator 2.10.15//
METHOD:PUBLISH
BEGIN:VEVENT
UID:20260424T053620EEST-6244gE7N3C@https://eeeea.gr/
DTSTAMP:20260424T023620Z
DESCRIPTION:11 Μαΐου 2024\nΞενοδοχείο Golden Age\, Αθήνα\nΕπιστημονικό Πρόγ
 ραμμα\nΦόρμα εγγραφής\nΠληροφορίες https://eeeea.gr/component/rseventspro/
 event/100-update-στην-ουρολογική-ογκολογία-σύγχρονες-κλινικές-εφαρμογές?It
 emid=101
DTSTART;VALUE=DATE:20240511
LOCATION:Ξενοδοχείο Golden Age\, Αθήνα (Ξενοδοχείο Golden Age\, Αθήνα)
SUMMARY:Update στην Ουρολογική Ογκολογία: Σύγχρονες κλινικές εφαρμογές
URL:https://eeeea.gr/component/rseventspro/event/100-update-στην-ουρολογική
 -ογκολογία-σύγχρονες-κλινικές-εφαρμογές?Itemid=101
END:VEVENT
END:VCALENDAR
