BEGIN:VCALENDAR
VERSION:2.0
PRODID:-//https://eeeea.gr///NONSGML kigkonsult.se iCalcreator 2.10.15//
METHOD:PUBLISH
BEGIN:VEVENT
UID:20260420T025444EEST-2449mjvsCB@https://eeeea.gr/
DTSTAMP:20260419T235444Z
DESCRIPTION:13 - 14 Δεκεμβρίου 2024Λέσχη Αξιωματικών Ενόπλων Δυνάμεων (ΛΑΕΔ
 )\, ΑθήναΟργάνωσηΕλληνική Εταιρεία Επιστημόνων - Εργαζομένων Ακτινοθεραπεί
 αςΣε συνεργασίαΠαθολογικό Ογκολογικό Τμήμα ΓΑΝΠ ΜΕΤΑΞΑ\nΕγγραφή\nΕπιστημον
 ικό Πρόγραμμα&nbsp\;\nΠερισσότερα https://eeeea.gr/component/rseventspro/e
 vent/101-ισχύς-εν-τη-ενώσει-συνδυασμένη-αντιμετώπιση-του-καρκίνου?Itemid=1
 01
DTSTART:20241213T080318Z
DTEND:20241214T100318Z
LOCATION: Λέσχη Αξιωματικών Ενόπλων Δυνάμεων (ΛΑΕΔ)\, Αθήνα ( Λέσχη Αξιωματ
 ικών Ενόπλων Δυνάμεων (ΛΑΕΔ)\, Αθήνα)
SUMMARY:Ισχύς εν τη Ενώσει - Συνδυασμένη Αντιμετώπιση του Καρκίνου
URL:https://eeeea.gr/component/rseventspro/event/101-ισχύς-εν-τη-ενώσει-συν
 δυασμένη-αντιμετώπιση-του-καρκίνου?Itemid=101
END:VEVENT
END:VCALENDAR
