BEGIN:VCALENDAR
VERSION:2.0
PRODID:-//https://eeeea.gr///NONSGML kigkonsult.se iCalcreator 2.10.15//
METHOD:PUBLISH
BEGIN:VEVENT
UID:20260425T175757EEST-7238mVuvSR@https://eeeea.gr/
DTSTAMP:20260425T145757Z
DESCRIPTION:15 - 16 Δεκεμβρίου 2023Λέσχη Αξιωματικών Ενόπλων Δυνάμεων (ΛΑΕΔ
 )\, ΑθήναΟργάνωσηΕλληνική Εταιρεία Επιστημόνων - Εργαζομένων Ακτινοθεραπεί
 αςΣε συνεργασίαΠαθολογικό Ογκολογικό Τμήμα ΓΑΝΠ ΜΕΤΑΞΑ\nΕπιστημονικό Πρόγρ
 αμμα&nbsp\;\n&nbsp\;e-Βook\nΠρόσκληση Δείπνου\n&nbsp\; https://eeeea.gr/co
 mponent/rseventspro/event/97-ισχύς-εν-τη-ενώσει-συνδυασμένη-αντιμετώπιση-τ
 ου-καρκίνου?Itemid=101
DTSTART:20231215T080000Z
DTEND:20231216T171000Z
LOCATION: Λέσχη Αξιωματικών Ενόπλων Δυνάμεων (ΛΑΕΔ)\, Αθήνα (Ρηγίλλης 1\, Α
 θήνα\, 106 75 Ελλάδα)
SUMMARY:Ισχύς εν τη Ενώσει - Συνδυασμένη Αντιμετώπιση του Καρκίνου 
URL:https://eeeea.gr/component/rseventspro/event/97-ισχύς-εν-τη-ενώσει-συνδ
 υασμένη-αντιμετώπιση-του-καρκίνου?Itemid=101
END:VEVENT
END:VCALENDAR
